BEGIN:VCALENDAR
VERSION:2.0
PRODID:-//ChamberMaster//Event Calendar 2.0//EN
METHOD:PUBLISH
X-PUBLISHED-TTL:P1H
REFRESH-INTERVAL:P1H
CALSCALE:GREGORIAN
BEGIN:VTIMEZONE
TZID:America/Chicago
BEGIN:DAYLIGHT
RRULE:FREQ=YEARLY;BYMONTH=3;BYDAY=2SU
DTSTART:20070101T000000
TZOFFSETFROM:-0600
TZOFFSETTO:-0500
TZNAME:Central Daylight Time
END:DAYLIGHT
BEGIN:STANDARD
RRULE:FREQ=YEARLY;BYMONTH=11;BYDAY=1SU
DTSTART:20070101T000000
TZOFFSETFROM:-0500
TZOFFSETTO:-0600
TZNAME:Central Standard Time
END:STANDARD
END:VTIMEZONE
BEGIN:VEVENT
DTSTART;TZID=America/Chicago:20260421T090000
DTEND;TZID=America/Chicago:20260421T094500
X-MICROSOFT-CDO-ALLDAYEVENT:FALSE
SUMMARY:License Fee Relief - Briefing with the City of Minneapolis
DESCRIPTION:Minneapolis hospitality operators took the brunt of Operation Metro Surge. The City is now putting $4 million on the table to help   covering business license fees\, in full or in part\, for more than 2\,000 food and hospitality businesses across Minneapolis.Hospitality Minnesota is hosting a briefing call for our Minneapolis operators\, and joining us to walk us through it is  Amy Lingo\, Manager of Licenses and Consumer Services for the City of Minneapolis. Amy will cover what the program does\, who qualifies\, and exactly how to apply.Join us Tuesday April 21\, 9:00 am  Bring your questions   Amy will have time to answer them\, and we'll make sure you leave knowing what to do next.
X-ALT-DESC;FMTTYPE=text/html:<!DOCTYPE html><html><head><title></title></head><body aria-disabled="false"><p>Minneapolis hospitality operators took the brunt of Operation Metro Surge. The City is now putting $4 million on the table to help &mdash\; covering business license fees\, in full or in part\, for more than 2\,000 food and hospitality businesses across Minneapolis.</p><p>Hospitality Minnesota is hosting a briefing call for our Minneapolis operators\, and joining us to walk us through it is &nbsp\;<strong fr-original-style="" style="font-weight: 700\;">Amy Lingo\, Manager of Licenses and Consumer Services</strong> for the <strong fr-original-style="" style="font-weight: 700\;">City of Minneapolis</strong>. Amy will cover what the program does\, who qualifies\, and exactly how to apply.</p><p>Join us Tuesday April 21\, 9:00 am&nbsp\; Bring your questions &mdash\; Amy will have time to answer them\, and we&#39\;ll make sure you leave knowing what to do next.</p></body></html>
LOCATION:
UID:e.3554.1446504
SEQUENCE:3
DTSTAMP:20260419T121612Z
URL:https://members.hospitalityminnesota.com/eventcalendar/Details/license-fee-relief-briefing-with-the-city-of-minneapolis-1713233?sourceTypeId=Hub
END:VEVENT
END:VCALENDAR
